{
 "currentVersion": 11.5,
 "serviceDescription": "MosaicPictometry_2017",
 "serviceItemId": "1b29a23f98e646f58970841059813a0e",
 "name": "2017Pictometry/MosaicPictometry_2017",
 "description": "MosaicPictometry_2017",
 "extent": {
  "xmin": 11639202,
  "ymin": 6679544.25,
  "xmax": 1.18085865E7,
  "ymax": 6822285,
  "spatialReference": {
   "wkt2": "PROJCRS[\"NAD_1983_Virginia_North\",BASEGEOGCRS[\"GCS_NAD83_1986\",DATUM[\"D_North_American_1983\",ELLIPSOID[\"GRS_1980\",6378137.0,298.257222101,LENGTHUNIT[\"Meter\",1.0]]],PRIMEM[\"Greenwich\",0.0,ANGLEUNIT[\"Degree\",0.0174532925199433]],CS[ellipsoidal,2],ANGLEUNIT[\"Degree\",0.0174532925199433]],CONVERSION[\"Lambert_Conformal_Conic\",METHOD[\"Lambert_Conformal_Conic\"],PARAMETER[\"false_easting\",11482916.66666655,LENGTHUNIT[\"US Survey Foot\",0.3048006096012192]],PARAMETER[\"false_northing\",6561666.6666666,LENGTHUNIT[\"US Survey Foot\",0.3048006096012192]],PARAMETER[\"central_meridian\",-78.5,ANGLEUNIT[\"Degree\",0.0174532925199433]],PARAMETER[\"standard_parallel_1\",38.033333333333,ANGLEUNIT[\"Degree\",0.0174532925199433]],PARAMETER[\"standard_parallel_2\",39.2,ANGLEUNIT[\"Degree\",0.0174532925199433]],PARAMETER[\"latitude_of_origin\",37.666666666667,ANGLEUNIT[\"Degree\",0.0174532925199433]]],CS[Cartesian,2],AXIS[\"Easting (X)\",east,ORDER[1]],AXIS[\"Northing (Y)\",north,ORDER[2]],LENGTHUNIT[\"US Survey Foot\",0.3048006096012192]]",
   "wkt": "PROJCS[\"NAD_1983_Virginia_North\",GEOGCS[\"GCS_NAD83_1986\",DATUM[\"D_North_American_1983\",SPHEROID[\"GRS_1980\",6378137.0,298.257222101]],PRIMEM[\"Greenwich\",0.0],UNIT[\"Degree\",0.0174532925199433]],PROJECTION[\"Lambert_Conformal_Conic\"],PARAMETER[\"false_easting\",11482916.66666655],PARAMETER[\"false_northing\",6561666.6666666],PARAMETER[\"central_meridian\",-78.5],PARAMETER[\"standard_parallel_1\",38.033333333333],PARAMETER[\"standard_parallel_2\",39.2],PARAMETER[\"latitude_of_origin\",37.666666666667],UNIT[\"US Survey Foot\",0.3048006096012192]]"
  }
 },
 "initialExtent": {
  "xmin": 11639202,
  "ymin": 6679544.25,
  "xmax": 1.18085865E7,
  "ymax": 6822285,
  "spatialReference": {
   "wkt2": "PROJCRS[\"NAD_1983_Virginia_North\",BASEGEOGCRS[\"GCS_NAD83_1986\",DATUM[\"D_North_American_1983\",ELLIPSOID[\"GRS_1980\",6378137.0,298.257222101,LENGTHUNIT[\"Meter\",1.0]]],PRIMEM[\"Greenwich\",0.0,ANGLEUNIT[\"Degree\",0.0174532925199433]],CS[ellipsoidal,2],ANGLEUNIT[\"Degree\",0.0174532925199433]],CONVERSION[\"Lambert_Conformal_Conic\",METHOD[\"Lambert_Conformal_Conic\"],PARAMETER[\"false_easting\",11482916.66666655,LENGTHUNIT[\"US Survey Foot\",0.3048006096012192]],PARAMETER[\"false_northing\",6561666.6666666,LENGTHUNIT[\"US Survey Foot\",0.3048006096012192]],PARAMETER[\"central_meridian\",-78.5,ANGLEUNIT[\"Degree\",0.0174532925199433]],PARAMETER[\"standard_parallel_1\",38.033333333333,ANGLEUNIT[\"Degree\",0.0174532925199433]],PARAMETER[\"standard_parallel_2\",39.2,ANGLEUNIT[\"Degree\",0.0174532925199433]],PARAMETER[\"latitude_of_origin\",37.666666666667,ANGLEUNIT[\"Degree\",0.0174532925199433]]],CS[Cartesian,2],AXIS[\"Easting (X)\",east,ORDER[1]],AXIS[\"Northing (Y)\",north,ORDER[2]],LENGTHUNIT[\"US Survey Foot\",0.3048006096012192]]",
   "wkt": "PROJCS[\"NAD_1983_Virginia_North\",GEOGCS[\"GCS_NAD83_1986\",DATUM[\"D_North_American_1983\",SPHEROID[\"GRS_1980\",6378137.0,298.257222101]],PRIMEM[\"Greenwich\",0.0],UNIT[\"Degree\",0.0174532925199433]],PROJECTION[\"Lambert_Conformal_Conic\"],PARAMETER[\"false_easting\",11482916.66666655],PARAMETER[\"false_northing\",6561666.6666666],PARAMETER[\"central_meridian\",-78.5],PARAMETER[\"standard_parallel_1\",38.033333333333],PARAMETER[\"standard_parallel_2\",39.2],PARAMETER[\"latitude_of_origin\",37.666666666667],UNIT[\"US Survey Foot\",0.3048006096012192]]"
  }
 },
 "fullExtent": {
  "xmin": 11639202,
  "ymin": 6679544.25,
  "xmax": 1.18085865E7,
  "ymax": 6822285,
  "spatialReference": {
   "wkt2": "PROJCRS[\"NAD_1983_Virginia_North\",BASEGEOGCRS[\"GCS_NAD83_1986\",DATUM[\"D_North_American_1983\",ELLIPSOID[\"GRS_1980\",6378137.0,298.257222101,LENGTHUNIT[\"Meter\",1.0]]],PRIMEM[\"Greenwich\",0.0,ANGLEUNIT[\"Degree\",0.0174532925199433]],CS[ellipsoidal,2],ANGLEUNIT[\"Degree\",0.0174532925199433]],CONVERSION[\"Lambert_Conformal_Conic\",METHOD[\"Lambert_Conformal_Conic\"],PARAMETER[\"false_easting\",11482916.66666655,LENGTHUNIT[\"US Survey Foot\",0.3048006096012192]],PARAMETER[\"false_northing\",6561666.6666666,LENGTHUNIT[\"US Survey Foot\",0.3048006096012192]],PARAMETER[\"central_meridian\",-78.5,ANGLEUNIT[\"Degree\",0.0174532925199433]],PARAMETER[\"standard_parallel_1\",38.033333333333,ANGLEUNIT[\"Degree\",0.0174532925199433]],PARAMETER[\"standard_parallel_2\",39.2,ANGLEUNIT[\"Degree\",0.0174532925199433]],PARAMETER[\"latitude_of_origin\",37.666666666667,ANGLEUNIT[\"Degree\",0.0174532925199433]]],CS[Cartesian,2],AXIS[\"Easting (X)\",east,ORDER[1]],AXIS[\"Northing (Y)\",north,ORDER[2]],LENGTHUNIT[\"US Survey Foot\",0.3048006096012192]]",
   "wkt": "PROJCS[\"NAD_1983_Virginia_North\",GEOGCS[\"GCS_NAD83_1986\",DATUM[\"D_North_American_1983\",SPHEROID[\"GRS_1980\",6378137.0,298.257222101]],PRIMEM[\"Greenwich\",0.0],UNIT[\"Degree\",0.0174532925199433]],PROJECTION[\"Lambert_Conformal_Conic\"],PARAMETER[\"false_easting\",11482916.66666655],PARAMETER[\"false_northing\",6561666.6666666],PARAMETER[\"central_meridian\",-78.5],PARAMETER[\"standard_parallel_1\",38.033333333333],PARAMETER[\"standard_parallel_2\",39.2],PARAMETER[\"latitude_of_origin\",37.666666666667],UNIT[\"US Survey Foot\",0.3048006096012192]]"
  }
 },
 "sortableFields": "",
 "bandCount": 3,
 "pixelType": "U8",
 "minValues": [
  0,
  12,
  7
 ],
 "maxValues": [
  255,
  255,
  255
 ],
 "meanValues": [
  186.58543985752402,
  179.56861379451703,
  168.91677922902772
 ],
 "stdvValues": [
  66.75185161885263,
  71.01028307788317,
  79.39842495288593
 ],
 "serviceProperties": "NorthWest<\/MosaicMethod>First<\/MosaicOperator>true<\/SortAscending><\/LockImageID>Name<\/TileOrderField>0<\/TileOrderBase>600.000000<\/AvgImageSpacingX>300.000000<\/AvgImageSpacingY>0.0<\/ViewPointX>0.0<\/ViewPointY>0.0<\/ViewPointDefShiftX>0.0<\/ViewPointDefShiftY>LZ77<\/CompressionMethod>75<\/CompressionQuality>0.010000<\/CompressionTolerance>Bilinear<\/SamplingMethod><\/ImageServiceProperties><\/ImageServer>",
 "allowedFields": "Name,MinPS,MaxPS,LowPS,HighPS,Tag,GroupName,ProductName,CenterX,CenterY,ZOrder,Shape.STArea(),Shape.STLength()",
 "hasMultidimensions": false,
 "pixelSizeX": 0.75,
 "pixelSizeY": 0.75,
 "meanPixelSize": 0.22860045720091443,
 "datasetFormat": "AMD",
 "uncompressedSize": 128949709698,
 "blockWidth": 2048,
 "blockHeight": 256,
 "compressionType": "None",
 "bandNames": [
  "Band_1",
  "Band_2",
  "Band_3"
 ],
 "allowCopy": true,
 "allowAnalysis": true,
 "itemAccess": false,
 "inspectionCapabilities": "",
 "minPixelSize": 0,
 "maxPixelSize": 0,
 "copyrightText": "",
 "serviceDataType": "esriImageServiceDataTypeRGB",
 "serviceSourceType": "esriImageServiceSourceTypeMosaicDataset",
 "objectIdField": "OBJECTID",
 "fields": [
  {
   "name": "OBJECTID",
   "type": "esriFieldTypeOID",
   "alias": "OBJECTID",
   "domain": null
  },
  {
   "name": "Name",
   "type": "esriFieldTypeString",
   "alias": "Name",
   "domain": null,
   "length": 200
  },
  {
   "name": "MinPS",
   "type": "esriFieldTypeDouble",
   "alias": "MinPS",
   "domain": null
  },
  {
   "name": "MaxPS",
   "type": "esriFieldTypeDouble",
   "alias": "MaxPS",
   "domain": null
  },
  {
   "name": "LowPS",
   "type": "esriFieldTypeDouble",
   "alias": "LowPS",
   "domain": null
  },
  {
   "name": "HighPS",
   "type": "esriFieldTypeDouble",
   "alias": "HighPS",
   "domain": null
  },
  {
   "name": "Category",
   "type": "esriFieldTypeInteger",
   "alias": "Category",
   "domain": {
    "type": "codedValue",
    "name": "MosaicCatalogItemCategoryDomain",
    "description": "Catalog item categories.",
    "codedValues": [
     {
      "name": "Unknown",
      "code": 0
     },
     {
      "name": "Primary",
      "code": 1
     },
     {
      "name": "Overview",
      "code": 2
     },
     {
      "name": "Unprocessed Overview",
      "code": 3
     },
     {
      "name": "Partial Overview",
      "code": 4
     },
     {
      "name": "Uploaded",
      "code": 253
     },
     {
      "name": "Incomplete",
      "code": 254
     },
     {
      "name": "Custom",
      "code": 255
     }
    ],
    "mergePolicy": "esriMPTDefaultValue",
    "splitPolicy": "esriSPTDefaultValue"
   }
  },
  {
   "name": "Tag",
   "type": "esriFieldTypeString",
   "alias": "Tag",
   "domain": null,
   "length": 100
  },
  {
   "name": "GroupName",
   "type": "esriFieldTypeString",
   "alias": "GroupName",
   "domain": null,
   "length": 100
  },
  {
   "name": "ProductName",
   "type": "esriFieldTypeString",
   "alias": "ProductName",
   "domain": null,
   "length": 100
  },
  {
   "name": "CenterX",
   "type": "esriFieldTypeDouble",
   "alias": "CenterX",
   "domain": null
  },
  {
   "name": "CenterY",
   "type": "esriFieldTypeDouble",
   "alias": "CenterY",
   "domain": null
  },
  {
   "name": "ZOrder",
   "type": "esriFieldTypeInteger",
   "alias": "ZOrder",
   "domain": null
  },
  {
   "name": "Shape",
   "type": "esriFieldTypeGeometry",
   "alias": "Shape",
   "domain": null
  },
  {
   "name": "Shape.STArea()",
   "type": "esriFieldTypeDouble",
   "alias": "Shape.STArea()",
   "domain": null
  },
  {
   "name": "Shape.STLength()",
   "type": "esriFieldTypeDouble",
   "alias": "Shape.STLength()",
   "domain": null
  }
 ],
 "capabilities": "Image,Metadata,Catalog,Mensuration",
 "defaultMosaicMethod": "Northwest",
 "allowedMosaicMethods": "NorthWest,Center,LockRaster,ByAttribute,Nadir,Viewpoint,Seamline,None",
 "sortField": "",
 "sortValue": null,
 "sortAscending": true,
 "mosaicOperator": "First",
 "maxDownloadSizeLimit": 2048,
 "defaultCompressionQuality": 75,
 "defaultResamplingMethod": "Bilinear",
 "maxImageHeight": 4100,
 "maxImageWidth": 15000,
 "maxRecordCount": 1000,
 "maxDownloadImageCount": 20,
 "maxMosaicImageCount": 20,
 "allowRasterFunction": true,
 "rasterFunctionInfos": [
  {
   "name": "None",
   "description": "A No-Op Function.",
   "help": ""
  }
 ],
 "rasterTypeInfos": [
  {
   "name": "Raster Dataset",
   "description": "Supports all ArcGIS Raster Datasets",
   "help": ""
  }
 ],
 "mensurationCapabilities": "Basic",
 "hasHistograms": true,
 "hasColormap": false,
 "hasRasterAttributeTable": false,
 "minScale": 0,
 "maxScale": 0,
 "exportTilesAllowed": false,
 "supportsStatistics": true,
 "supportsAdvancedQueries": true,
 "editFieldsInfo": null,
 "ownershipBasedAccessControlForRasters": null,
 "allowComputeTiePoints": false,
 "useStandardizedQueries": true,
 "advancedQueryCapabilities": {
  "useStandardizedQueries": true,
  "supportsStatistics": true,
  "supportsOrderBy": true,
  "supportsDistinct": true,
  "supportsPagination": true
 },
 "spatialReference": {
  "wkt2": "PROJCRS[\"NAD_1983_Virginia_North\",BASEGEOGCRS[\"GCS_NAD83_1986\",DATUM[\"D_North_American_1983\",ELLIPSOID[\"GRS_1980\",6378137.0,298.257222101,LENGTHUNIT[\"Meter\",1.0]]],PRIMEM[\"Greenwich\",0.0,ANGLEUNIT[\"Degree\",0.0174532925199433]],CS[ellipsoidal,2],ANGLEUNIT[\"Degree\",0.0174532925199433]],CONVERSION[\"Lambert_Conformal_Conic\",METHOD[\"Lambert_Conformal_Conic\"],PARAMETER[\"false_easting\",11482916.66666655,LENGTHUNIT[\"US Survey Foot\",0.3048006096012192]],PARAMETER[\"false_northing\",6561666.6666666,LENGTHUNIT[\"US Survey Foot\",0.3048006096012192]],PARAMETER[\"central_meridian\",-78.5,ANGLEUNIT[\"Degree\",0.0174532925199433]],PARAMETER[\"standard_parallel_1\",38.033333333333,ANGLEUNIT[\"Degree\",0.0174532925199433]],PARAMETER[\"standard_parallel_2\",39.2,ANGLEUNIT[\"Degree\",0.0174532925199433]],PARAMETER[\"latitude_of_origin\",37.666666666667,ANGLEUNIT[\"Degree\",0.0174532925199433]]],CS[Cartesian,2],AXIS[\"Easting (X)\",east,ORDER[1]],AXIS[\"Northing (Y)\",north,ORDER[2]],LENGTHUNIT[\"US Survey Foot\",0.3048006096012192]]",
  "wkt": "PROJCS[\"NAD_1983_Virginia_North\",GEOGCS[\"GCS_NAD83_1986\",DATUM[\"D_North_American_1983\",SPHEROID[\"GRS_1980\",6378137.0,298.257222101]],PRIMEM[\"Greenwich\",0.0],UNIT[\"Degree\",0.0174532925199433]],PROJECTION[\"Lambert_Conformal_Conic\"],PARAMETER[\"false_easting\",11482916.66666655],PARAMETER[\"false_northing\",6561666.6666666],PARAMETER[\"central_meridian\",-78.5],PARAMETER[\"standard_parallel_1\",38.033333333333],PARAMETER[\"standard_parallel_2\",39.2],PARAMETER[\"latitude_of_origin\",37.666666666667],UNIT[\"US Survey Foot\",0.3048006096012192]]"
 }
}
