{
 "currentVersion": 11.5,
 "serviceDescription": "MosaicImagery_2013",
 "serviceItemId": "7b595bb2eca141c088e7e9e94c883a31",
 "name": "2013VBMP/MosaicImagery_2013",
 "description": "MosaicImagery_2013",
 "extent": {
  "xmin": 11635000,
  "ymin": 6675000,
  "xmax": 11810000,
  "ymax": 6825000,
  "spatialReference": {
   "wkt2": "PROJCRS[\"NAD_1983_HARN_Virginia_North_ftUS\",BASEGEOGCRS[\"GCS_North_American_1983_HARN\",DATUM[\"D_NAD83_High_Accuracy_Reference_Network\",ELLIPSOID[\"GRS_1980\",6378137.0,298.257222101,LENGTHUNIT[\"Meter\",1.0]]],PRIMEM[\"Greenwich\",0.0,ANGLEUNIT[\"Degree\",0.0174532925199433]],CS[ellipsoidal,2],AXIS[\"Latitude (lat)\",north,ORDER[1]],AXIS[\"Longitude (lon)\",east,ORDER[2]],ANGLEUNIT[\"Degree\",0.0174532925199433]],CONVERSION[\"Lambert_Conformal_Conic\",METHOD[\"Lambert_Conformal_Conic\"],PARAMETER[\"false_easting\",11482916.667,LENGTHUNIT[\"Foot_US\",0.3048006096012192]],PARAMETER[\"false_northing\",6561666.667,LENGTHUNIT[\"Foot_US\",0.3048006096012192]],PARAMETER[\"central_meridian\",-78.5,ANGLEUNIT[\"Degree\",0.0174532925199433]],PARAMETER[\"standard_parallel_1\",38.03333333333333,ANGLEUNIT[\"Degree\",0.0174532925199433]],PARAMETER[\"standard_parallel_2\",39.2,ANGLEUNIT[\"Degree\",0.0174532925199433]],PARAMETER[\"latitude_of_origin\",37.66666666666666,ANGLEUNIT[\"Degree\",0.0174532925199433]]],CS[Cartesian,2],AXIS[\"Easting (X)\",east,ORDER[1]],AXIS[\"Northing (Y)\",north,ORDER[2]],LENGTHUNIT[\"Foot_US\",0.3048006096012192]]",
   "wkt": "PROJCS[\"NAD_1983_HARN_Virginia_North_ftUS\",GEOGCS[\"GCS_North_American_1983_HARN\",DATUM[\"D_NAD83_High_Accuracy_Reference_Network\",SPHEROID[\"GRS_1980\",6378137.0,298.257222101]],PRIMEM[\"Greenwich\",0.0],UNIT[\"Degree\",0.0174532925199433]],PROJECTION[\"Lambert_Conformal_Conic\"],PARAMETER[\"false_easting\",11482916.667],PARAMETER[\"false_northing\",6561666.667],PARAMETER[\"central_meridian\",-78.5],PARAMETER[\"standard_parallel_1\",38.03333333333333],PARAMETER[\"standard_parallel_2\",39.2],PARAMETER[\"latitude_of_origin\",37.66666666666666],UNIT[\"Foot_US\",0.3048006096012192]]"
  }
 },
 "initialExtent": {
  "xmin": 11635000,
  "ymin": 6675000,
  "xmax": 11810000,
  "ymax": 6825000,
  "spatialReference": {
   "wkt2": "PROJCRS[\"NAD_1983_HARN_Virginia_North_ftUS\",BASEGEOGCRS[\"GCS_North_American_1983_HARN\",DATUM[\"D_NAD83_High_Accuracy_Reference_Network\",ELLIPSOID[\"GRS_1980\",6378137.0,298.257222101,LENGTHUNIT[\"Meter\",1.0]]],PRIMEM[\"Greenwich\",0.0,ANGLEUNIT[\"Degree\",0.0174532925199433]],CS[ellipsoidal,2],AXIS[\"Latitude (lat)\",north,ORDER[1]],AXIS[\"Longitude (lon)\",east,ORDER[2]],ANGLEUNIT[\"Degree\",0.0174532925199433]],CONVERSION[\"Lambert_Conformal_Conic\",METHOD[\"Lambert_Conformal_Conic\"],PARAMETER[\"false_easting\",11482916.667,LENGTHUNIT[\"Foot_US\",0.3048006096012192]],PARAMETER[\"false_northing\",6561666.667,LENGTHUNIT[\"Foot_US\",0.3048006096012192]],PARAMETER[\"central_meridian\",-78.5,ANGLEUNIT[\"Degree\",0.0174532925199433]],PARAMETER[\"standard_parallel_1\",38.03333333333333,ANGLEUNIT[\"Degree\",0.0174532925199433]],PARAMETER[\"standard_parallel_2\",39.2,ANGLEUNIT[\"Degree\",0.0174532925199433]],PARAMETER[\"latitude_of_origin\",37.66666666666666,ANGLEUNIT[\"Degree\",0.0174532925199433]]],CS[Cartesian,2],AXIS[\"Easting (X)\",east,ORDER[1]],AXIS[\"Northing (Y)\",north,ORDER[2]],LENGTHUNIT[\"Foot_US\",0.3048006096012192]]",
   "wkt": "PROJCS[\"NAD_1983_HARN_Virginia_North_ftUS\",GEOGCS[\"GCS_North_American_1983_HARN\",DATUM[\"D_NAD83_High_Accuracy_Reference_Network\",SPHEROID[\"GRS_1980\",6378137.0,298.257222101]],PRIMEM[\"Greenwich\",0.0],UNIT[\"Degree\",0.0174532925199433]],PROJECTION[\"Lambert_Conformal_Conic\"],PARAMETER[\"false_easting\",11482916.667],PARAMETER[\"false_northing\",6561666.667],PARAMETER[\"central_meridian\",-78.5],PARAMETER[\"standard_parallel_1\",38.03333333333333],PARAMETER[\"standard_parallel_2\",39.2],PARAMETER[\"latitude_of_origin\",37.66666666666666],UNIT[\"Foot_US\",0.3048006096012192]]"
  }
 },
 "fullExtent": {
  "xmin": 11635000,
  "ymin": 6675000,
  "xmax": 11810000,
  "ymax": 6825000,
  "spatialReference": {
   "wkt2": "PROJCRS[\"NAD_1983_HARN_Virginia_North_ftUS\",BASEGEOGCRS[\"GCS_North_American_1983_HARN\",DATUM[\"D_NAD83_High_Accuracy_Reference_Network\",ELLIPSOID[\"GRS_1980\",6378137.0,298.257222101,LENGTHUNIT[\"Meter\",1.0]]],PRIMEM[\"Greenwich\",0.0,ANGLEUNIT[\"Degree\",0.0174532925199433]],CS[ellipsoidal,2],AXIS[\"Latitude (lat)\",north,ORDER[1]],AXIS[\"Longitude (lon)\",east,ORDER[2]],ANGLEUNIT[\"Degree\",0.0174532925199433]],CONVERSION[\"Lambert_Conformal_Conic\",METHOD[\"Lambert_Conformal_Conic\"],PARAMETER[\"false_easting\",11482916.667,LENGTHUNIT[\"Foot_US\",0.3048006096012192]],PARAMETER[\"false_northing\",6561666.667,LENGTHUNIT[\"Foot_US\",0.3048006096012192]],PARAMETER[\"central_meridian\",-78.5,ANGLEUNIT[\"Degree\",0.0174532925199433]],PARAMETER[\"standard_parallel_1\",38.03333333333333,ANGLEUNIT[\"Degree\",0.0174532925199433]],PARAMETER[\"standard_parallel_2\",39.2,ANGLEUNIT[\"Degree\",0.0174532925199433]],PARAMETER[\"latitude_of_origin\",37.66666666666666,ANGLEUNIT[\"Degree\",0.0174532925199433]]],CS[Cartesian,2],AXIS[\"Easting (X)\",east,ORDER[1]],AXIS[\"Northing (Y)\",north,ORDER[2]],LENGTHUNIT[\"Foot_US\",0.3048006096012192]]",
   "wkt": "PROJCS[\"NAD_1983_HARN_Virginia_North_ftUS\",GEOGCS[\"GCS_North_American_1983_HARN\",DATUM[\"D_NAD83_High_Accuracy_Reference_Network\",SPHEROID[\"GRS_1980\",6378137.0,298.257222101]],PRIMEM[\"Greenwich\",0.0],UNIT[\"Degree\",0.0174532925199433]],PROJECTION[\"Lambert_Conformal_Conic\"],PARAMETER[\"false_easting\",11482916.667],PARAMETER[\"false_northing\",6561666.667],PARAMETER[\"central_meridian\",-78.5],PARAMETER[\"standard_parallel_1\",38.03333333333333],PARAMETER[\"standard_parallel_2\",39.2],PARAMETER[\"latitude_of_origin\",37.66666666666666],UNIT[\"Foot_US\",0.3048006096012192]]"
  }
 },
 "sortableFields": "",
 "bandCount": 3,
 "pixelType": "U8",
 "minValues": [
  0,
  5,
  22
 ],
 "maxValues": [
  255,
  255,
  255
 ],
 "meanValues": [
  196.79336300000105,
  194.13189299999576,
  190.03263299999875
 ],
 "stdvValues": [
  59.433108689050606,
  60.41597842729232,
  63.51172107434982
 ],
 "serviceProperties": "NorthWest<\/MosaicMethod>First<\/MosaicOperator>true<\/SortAscending><\/LockImageID>Name<\/TileOrderField>0<\/TileOrderBase>600.000000<\/AvgImageSpacingX>300.000000<\/AvgImageSpacingY>0.0<\/ViewPointX>0.0<\/ViewPointY>0.0<\/ViewPointDefShiftX>0.0<\/ViewPointDefShiftY>LZ77<\/CompressionMethod>75<\/CompressionQuality>0.010000<\/CompressionTolerance>Bilinear<\/SamplingMethod><\/ImageServiceProperties><\/ImageServer>",
 "allowedFields": "Name,MinPS,MaxPS,LowPS,HighPS,Tag,GroupName,ProductName,CenterX,CenterY,ZOrder,Shape.STArea(),Shape.STLength()",
 "hasMultidimensions": false,
 "pixelSizeX": 0.5,
 "pixelSizeY": 0.5,
 "meanPixelSize": 0.15240030480060962,
 "datasetFormat": "AMD",
 "uncompressedSize": 315000000000,
 "blockWidth": 2048,
 "blockHeight": 256,
 "compressionType": "None",
 "bandNames": [
  "Band_1",
  "Band_2",
  "Band_3"
 ],
 "allowCopy": true,
 "allowAnalysis": true,
 "itemAccess": false,
 "inspectionCapabilities": "",
 "minPixelSize": 0,
 "maxPixelSize": 0,
 "copyrightText": "",
 "serviceDataType": "esriImageServiceDataTypeRGB",
 "serviceSourceType": "esriImageServiceSourceTypeMosaicDataset",
 "objectIdField": "OBJECTID",
 "fields": [
  {
   "name": "OBJECTID",
   "type": "esriFieldTypeOID",
   "alias": "OBJECTID",
   "domain": null
  },
  {
   "name": "Name",
   "type": "esriFieldTypeString",
   "alias": "Name",
   "domain": null,
   "length": 200
  },
  {
   "name": "MinPS",
   "type": "esriFieldTypeDouble",
   "alias": "MinPS",
   "domain": null
  },
  {
   "name": "MaxPS",
   "type": "esriFieldTypeDouble",
   "alias": "MaxPS",
   "domain": null
  },
  {
   "name": "LowPS",
   "type": "esriFieldTypeDouble",
   "alias": "LowPS",
   "domain": null
  },
  {
   "name": "HighPS",
   "type": "esriFieldTypeDouble",
   "alias": "HighPS",
   "domain": null
  },
  {
   "name": "Category",
   "type": "esriFieldTypeInteger",
   "alias": "Category",
   "domain": {
    "type": "codedValue",
    "name": "MosaicCatalogItemCategoryDomain",
    "description": "Catalog item categories.",
    "codedValues": [
     {
      "name": "Unknown",
      "code": 0
     },
     {
      "name": "Primary",
      "code": 1
     },
     {
      "name": "Overview",
      "code": 2
     },
     {
      "name": "Unprocessed Overview",
      "code": 3
     },
     {
      "name": "Partial Overview",
      "code": 4
     },
     {
      "name": "Uploaded",
      "code": 253
     },
     {
      "name": "Incomplete",
      "code": 254
     },
     {
      "name": "Custom",
      "code": 255
     }
    ],
    "mergePolicy": "esriMPTDefaultValue",
    "splitPolicy": "esriSPTDefaultValue"
   }
  },
  {
   "name": "Tag",
   "type": "esriFieldTypeString",
   "alias": "Tag",
   "domain": null,
   "length": 100
  },
  {
   "name": "GroupName",
   "type": "esriFieldTypeString",
   "alias": "GroupName",
   "domain": null,
   "length": 100
  },
  {
   "name": "ProductName",
   "type": "esriFieldTypeString",
   "alias": "ProductName",
   "domain": null,
   "length": 100
  },
  {
   "name": "CenterX",
   "type": "esriFieldTypeDouble",
   "alias": "CenterX",
   "domain": null
  },
  {
   "name": "CenterY",
   "type": "esriFieldTypeDouble",
   "alias": "CenterY",
   "domain": null
  },
  {
   "name": "ZOrder",
   "type": "esriFieldTypeInteger",
   "alias": "ZOrder",
   "domain": null
  },
  {
   "name": "Shape",
   "type": "esriFieldTypeGeometry",
   "alias": "Shape",
   "domain": null
  },
  {
   "name": "Shape.STArea()",
   "type": "esriFieldTypeDouble",
   "alias": "Shape.STArea()",
   "domain": null
  },
  {
   "name": "Shape.STLength()",
   "type": "esriFieldTypeDouble",
   "alias": "Shape.STLength()",
   "domain": null
  }
 ],
 "capabilities": "Catalog,Download,Image,Metadata",
 "defaultMosaicMethod": "Northwest",
 "allowedMosaicMethods": "NorthWest,Center,LockRaster,ByAttribute,Nadir,Viewpoint,Seamline,None",
 "sortField": "",
 "sortValue": null,
 "sortAscending": true,
 "mosaicOperator": "First",
 "maxDownloadSizeLimit": 2048,
 "defaultCompressionQuality": 75,
 "defaultResamplingMethod": "Bilinear",
 "maxImageHeight": 4100,
 "maxImageWidth": 15000,
 "maxRecordCount": 1000,
 "maxDownloadImageCount": 20,
 "maxMosaicImageCount": 20,
 "allowRasterFunction": true,
 "rasterFunctionInfos": [
  {
   "name": "None",
   "description": "A No-Op Function.",
   "help": ""
  }
 ],
 "rasterTypeInfos": [
  {
   "name": "Raster Dataset",
   "description": "Supports all ArcGIS Raster Datasets",
   "help": ""
  }
 ],
 "mensurationCapabilities": "None",
 "hasHistograms": true,
 "hasColormap": false,
 "hasRasterAttributeTable": false,
 "minScale": 0,
 "maxScale": 0,
 "exportTilesAllowed": false,
 "supportsStatistics": true,
 "supportsAdvancedQueries": true,
 "editFieldsInfo": null,
 "ownershipBasedAccessControlForRasters": null,
 "allowComputeTiePoints": false,
 "useStandardizedQueries": true,
 "advancedQueryCapabilities": {
  "useStandardizedQueries": true,
  "supportsStatistics": true,
  "supportsOrderBy": true,
  "supportsDistinct": true,
  "supportsPagination": true
 },
 "spatialReference": {
  "wkt2": "PROJCRS[\"NAD_1983_HARN_Virginia_North_ftUS\",BASEGEOGCRS[\"GCS_North_American_1983_HARN\",DATUM[\"D_NAD83_High_Accuracy_Reference_Network\",ELLIPSOID[\"GRS_1980\",6378137.0,298.257222101,LENGTHUNIT[\"Meter\",1.0]]],PRIMEM[\"Greenwich\",0.0,ANGLEUNIT[\"Degree\",0.0174532925199433]],CS[ellipsoidal,2],AXIS[\"Latitude (lat)\",north,ORDER[1]],AXIS[\"Longitude (lon)\",east,ORDER[2]],ANGLEUNIT[\"Degree\",0.0174532925199433]],CONVERSION[\"Lambert_Conformal_Conic\",METHOD[\"Lambert_Conformal_Conic\"],PARAMETER[\"false_easting\",11482916.667,LENGTHUNIT[\"Foot_US\",0.3048006096012192]],PARAMETER[\"false_northing\",6561666.667,LENGTHUNIT[\"Foot_US\",0.3048006096012192]],PARAMETER[\"central_meridian\",-78.5,ANGLEUNIT[\"Degree\",0.0174532925199433]],PARAMETER[\"standard_parallel_1\",38.03333333333333,ANGLEUNIT[\"Degree\",0.0174532925199433]],PARAMETER[\"standard_parallel_2\",39.2,ANGLEUNIT[\"Degree\",0.0174532925199433]],PARAMETER[\"latitude_of_origin\",37.66666666666666,ANGLEUNIT[\"Degree\",0.0174532925199433]]],CS[Cartesian,2],AXIS[\"Easting (X)\",east,ORDER[1]],AXIS[\"Northing (Y)\",north,ORDER[2]],LENGTHUNIT[\"Foot_US\",0.3048006096012192]]",
  "wkt": "PROJCS[\"NAD_1983_HARN_Virginia_North_ftUS\",GEOGCS[\"GCS_North_American_1983_HARN\",DATUM[\"D_NAD83_High_Accuracy_Reference_Network\",SPHEROID[\"GRS_1980\",6378137.0,298.257222101]],PRIMEM[\"Greenwich\",0.0],UNIT[\"Degree\",0.0174532925199433]],PROJECTION[\"Lambert_Conformal_Conic\"],PARAMETER[\"false_easting\",11482916.667],PARAMETER[\"false_northing\",6561666.667],PARAMETER[\"central_meridian\",-78.5],PARAMETER[\"standard_parallel_1\",38.03333333333333],PARAMETER[\"standard_parallel_2\",39.2],PARAMETER[\"latitude_of_origin\",37.66666666666666],UNIT[\"Foot_US\",0.3048006096012192]]"
 }
}
